Workbook

Sheet Ürünler
A1: Stok listesi
A2: Her ürünü bir kez yazın. Kalan stok, "Hareketler" sayfasındaki giriş ve çıkışlardan hesaplanır.
A3: Sarı hücreleri doldurun; beyaz hücreler formüldür, kendiliğinden hesaplanır. Örnek satırları silip kendi kayıtlarınızı yazabilirsiniz. Şablon: jetkur.com
A5: Kod | B5: Ürün | C5: Birim | D5: Kritik seviye | E5: Açılış stoğu | F5: Giriş | G5: Çıkış | H5: Kalan | I5: Durum
A6: U01 | B6: Mat wax | C6: adet | D6: 3 | E6: 2 | F6: =IF(A6="","",SUMIFS(Hareketler!$E$6:$E$205,Hareketler!$B$6:$B$205,A6,Hareketler!$D$6:$D$205,"Giriş")) | G6: =IF(A6="","",SUMIFS(Hareketler!$E$6:$E$205,Hareketler!$B$6:$B$205,A6,Hareketler!$D$6:$D$205,"Çıkış")) | H6: =IF(A6="","",N(E6)+F6-G6) | I6: =IF(A6="","",IF(H6<=0,"Tükendi",IF(H6<=D6,"Sipariş verin","Yeterli")))
A7: U02 | B7: Şampuan 400 ml | C7: adet | D7: 2 | E7: 0 | F7: =IF(A7="","",SUMIFS(Hareketler!$E$6:$E$205,Hareketler!$B$6:$B$205,A7,Hareketler!$D$6:$D$205,"Giriş")) | G7: =IF(A7="","",SUMIFS(Hareketler!$E$6:$E$205,Hareketler!$B$6:$B$205,A7,Hareketler!$D$6:$D$205,"Çıkış")) | H7: =IF(A7="","",N(E7)+F7-G7) | I7: =IF(A7="","",IF(H7<=0,"Tükendi",IF(H7<=D7,"Sipariş verin","Yeterli")))
A8: U03 | B8: Sakal yağı | C8: adet | D8: 3 | E8: 4 | F8: =IF(A8="","",SUMIFS(Hareketler!$E$6:$E$205,Hareketler!$B$6:$B$205,A8,Hareketler!$D$6:$D$205,"Giriş")) | G8: =IF(A8="","",SUMIFS(Hareketler!$E$6:$E$205,Hareketler!$B$6:$B$205,A8,Hareketler!$D$6:$D$205,"Çıkış")) | H8: =IF(A8="","",N(E8)+F8-G8) | I8: =IF(A8="","",IF(H8<=0,"Tükendi",IF(H8<=D8,"Sipariş verin","Yeterli")))
A9: M01 | B9: Tıraş bıçağı | C9: paket | D9: 2 | E9: 2 | F9: =IF(A9="","",SUMIFS(Hareketler!$E$6:$E$205,Hareketler!$B$6:$B$205,A9,Hareketler!$D$6:$D$205,"Giriş")) | G9: =IF(A9="","",SUMIFS(Hareketler!$E$6:$E$205,Hareketler!$B$6:$B$205,A9,Hareketler!$D$6:$D$205,"Çıkış")) | H9: =IF(A9="","",N(E9)+F9-G9) | I9: =IF(A9="","",IF(H9<=0,"Tükendi",IF(H9<=D9,"Sipariş verin","Yeterli")))
A10: M02 | B10: Siyah mürekkep 120 ml | C10: şişe | D10: 3 | E10: 2 | F10: =IF(A10="","",SUMIFS(Hareketler!$E$6:$E$205,Hareketler!$B$6:$B$205,A10,Hareketler!$D$6:$D$205,"Giriş")) | G10: =IF(A10="","",SUMIFS(Hareketler!$E$6:$E$205,Hareketler!$B$6:$B$205,A10,Hareketler!$D$6:$D$205,"Çıkış")) | H10: =IF(A10="","",N(E10)+F10-G10) | I10: =IF(A10="","",IF(H10<=0,"Tükendi",IF(H10<=D10,"Sipariş verin","Yeterli")))
F11: =IF(A11="","",SUMIFS(Hareketler!$E$6:$E$205,Hareketler!$B$6:$B$205,A11,Hareketler!$D$6:$D$205,"Giriş")) | G11: =IF(A11="","",SUMIFS(Hareketler!$E$6:$E$205,Hareketler!$B$6:$B$205,A11,Hareketler!$D$6:$D$205,"Çıkış")) | H11: =IF(A11="","",N(E11)+F11-G11) | I11: =IF(A11="","",IF(H11<=0,"Tükendi",IF(H11<=D11,"Sipariş verin","Yeterli")))
F12: =IF(A12="","",SUMIFS(Hareketler!$E$6:$E$205,Hareketler!$B$6:$B$205,A12,Hareketler!$D$6:$D$205,"Giriş")) | G12: =IF(A12="","",SUMIFS(Hareketler!$E$6:$E$205,Hareketler!$B$6:$B$205,A12,Hareketler!$D$6:$D$205,"Çıkış")) | H12: =IF(A12="","",N(E12)+F12-G12) | I12: =IF(A12="","",IF(H12<=0,"Tükendi",IF(H12<=D12,"Sipariş verin","Yeterli")))
F13: =IF(A13="","",SUMIFS(Hareketler!$E$6:$E$205,Hareketler!$B$6:$B$205,A13,Hareketler!$D$6:$D$205,"Giriş")) | G13: =IF(A13="","",SUMIFS(Hareketler!$E$6:$E$205,Hareketler!$B$6:$B$205,A13,Hareketler!$D$6:$D$205,"Çıkış")) | H13: =IF(A13="","",N(E13)+F13-G13) | I13: =IF(A13="","",IF(H13<=0,"Tükendi",IF(H13<=D13,"Sipariş verin","Yeterli")))
F14: =IF(A14="","",SUMIFS(Hareketler!$E$6:$E$205,Hareketler!$B$6:$B$205,A14,Hareketler!$D$6:$D$205,"Giriş")) | G14: =IF(A14="","",SUMIFS(Hareketler!$E$6:$E$205,Hareketler!$B$6:$B$205,A14,Hareketler!$D$6:$D$205,"Çıkış")) | H14: =IF(A14="","",N(E14)+F14-G14) | I14: =IF(A14="","",IF(H14<=0,"Tükendi",IF(H14<=D14,"Sipariş verin","Yeterli")))
F15: =IF(A15="","",SUMIFS(Hareketler!$E$6:$E$205,Hareketler!$B$6:$B$205,A15,Hareketler!$D$6:$D$205,"Giriş")) | G15: =IF(A15="","",SUMIFS(Hareketler!$E$6:$E$205,Hareketler!$B$6:$B$205,A15,Hareketler!$D$6:$D$205,"Çıkış")) | H15: =IF(A15="","",N(E15)+F15-G15) | I15: =IF(A15="","",IF(H15<=0,"Tükendi",IF(H15<=D15,"Sipariş verin","Yeterli")))
F16: =IF(A16="","",SUMIFS(Hareketler!$E$6:$E$205,Hareketler!$B$6:$B$205,A16,Hareketler!$D$6:$D$205,"Giriş")) | G16: =IF(A16="","",SUMIFS(Hareketler!$E$6:$E$205,Hareketler!$B$6:$B$205,A16,Hareketler!$D$6:$D$205,"Çıkış")) | H16: =IF(A16="","",N(E16)+F16-G16) | I16: =IF(A16="","",IF(H16<=0,"Tükendi",IF(H16<=D16,"Sipariş verin","Yeterli")))
F17: =IF(A17="","",SUMIFS(Hareketler!$E$6:$E$205,Hareketler!$B$6:$B$205,A17,Hareketler!$D$6:$D$205,"Giriş")) | G17: =IF(A17="","",SUMIFS(Hareketler!$E$6:$E$205,Hareketler!$B$6:$B$205,A17,Hareketler!$D$6:$D$205,"Çıkış")) | H17: =IF(A17="","",N(E17)+F17-G17) | I17: =IF(A17="","",IF(H17<=0,"Tükendi",IF(H17<=D17,"Sipariş verin","Yeterli")))
F18: =IF(A18="","",SUMIFS(Hareketler!$E$6:$E$205,Hareketler!$B$6:$B$205,A18,Hareketler!$D$6:$D$205,"Giriş")) | G18: =IF(A18="","",SUMIFS(Hareketler!$E$6:$E$205,Hareketler!$B$6:$B$205,A18,Hareketler!$D$6:$D$205,"Çıkış")) | H18: =IF(A18="","",N(E18)+F18-G18) | I18: =IF(A18="","",IF(H18<=0,"Tükendi",IF(H18<=D18,"Sipariş verin","Yeterli")))
F19: =IF(A19="","",SUMIFS(Hareketler!$E$6:$E$205,Hareketler!$B$6:$B$205,A19,Hareketler!$D$6:$D$205,"Giriş")) | G19: =IF(A19="","",SUMIFS(Hareketler!$E$6:$E$205,Hareketler!$B$6:$B$205,A19,Hareketler!$D$6:$D$205,"Çıkış")) | H19: =IF(A19="","",N(E19)+F19-G19) | I19: =IF(A19="","",IF(H19<=0,"Tükendi",IF(H19<=D19,"Sipariş verin","Yeterli")))
F20: =IF(A20="","",SUMIFS(Hareketler!$E$6:$E$205,Hareketler!$B$6:$B$205,A20,Hareketler!$D$6:$D$205,"Giriş")) | G20: =IF(A20="","",SUMIFS(Hareketler!$E$6:$E$205,Hareketler!$B$6:$B$205,A20,Hareketler!$D$6:$D$205,"Çıkış")) | H20: =IF(A20="","",N(E20)+F20-G20) | I20: =IF(A20="","",IF(H20<=0,"Tükendi",IF(H20<=D20,"Sipariş verin","Yeterli")))
F21: =IF(A21="","",SUMIFS(Hareketler!$E$6:$E$205,Hareketler!$B$6:$B$205,A21,Hareketler!$D$6:$D$205,"Giriş")) | G21: =IF(A21="","",SUMIFS(Hareketler!$E$6:$E$205,Hareketler!$B$6:$B$205,A21,Hareketler!$D$6:$D$205,"Çıkış")) | H21: =IF(A21="","",N(E21)+F21-G21) | I21: =IF(A21="","",IF(H21<=0,"Tükendi",IF(H21<=D21,"Sipariş verin","Yeterli")))
F22: =IF(A22="","",SUMIFS(Hareketler!$E$6:$E$205,Hareketler!$B$6:$B$205,A22,Hareketler!$D$6:$D$205,"Giriş")) | G22: =IF(A22="","",SUMIFS(Hareketler!$E$6:$E$205,Hareketler!$B$6:$B$205,A22,Hareketler!$D$6:$D$205,"Çıkış")) | H22: =IF(A22="","",N(E22)+F22-G22) | I22: =IF(A22="","",IF(H22<=0,"Tükendi",IF(H22<=D22,"Sipariş verin","Yeterli")))
... F65: =IF(A65="","",SUMIFS(Hareketler!$E$6:$E$205,Hareketler!$B$6:$B$205,A65,Hareketler!$D$6:$D$205,"Giriş")) | G65: =IF(A65="","",SUMIFS(Hareketler!$E$6:$E$205,Hareketler!$B$6:$B$205,A65,Hareketler!$D$6:$D$205,"Çıkış")) | H65: =IF(A65="","",N(E65)+F65-G65) | I65: =IF(A65="","",IF(H65<=0,"Tükendi",IF(H65<=D65,"Sipariş verin","Yeterli")))

Sheet Hareketler
A1: Stok hareketleri
A2: Gelen malı "Giriş", satılan ya da kullanılan ürünü "Çıkış" olarak yazın. Ürün adı koddan gelir.
A3: Sarı hücreleri doldurun; beyaz hücreler formüldür, kendiliğinden hesaplanır. Örnek satırları silip kendi kayıtlarınızı yazabilirsiniz. Şablon: jetkur.com
A5: Tarih | B5: Kod | C5: Ürün | D5: Hareket | E5: Miktar | F5: Açıklama
A6: 46296 | B6: U01 | C6: =IF(B6="","",IFERROR(INDEX(Ürünler!$B$6:$B$65,MATCH(B6,Ürünler!$A$6:$A$65,0)),"Kod listede yok")) | D6: Giriş | E6: 6 | F6: Örnek Kozmetik, vadeli
A7: 46296 | B7: U02 | C7: =IF(B7="","",IFERROR(INDEX(Ürünler!$B$6:$B$65,MATCH(B7,Ürünler!$A$6:$A$65,0)),"Kod listede yok")) | D7: Giriş | E7: 4 | F7: Örnek Kozmetik, vadeli
A8: 46296 | B8: U03 | C8: =IF(B8="","",IFERROR(INDEX(Ürünler!$B$6:$B$65,MATCH(B8,Ürünler!$A$6:$A$65,0)),"Kod listede yok")) | D8: Giriş | E8: 4 | F8: Örnek Kozmetik, vadeli
A9: 46304 | B9: U01 | C9: =IF(B9="","",IFERROR(INDEX(Ürünler!$B$6:$B$65,MATCH(B9,Ürünler!$A$6:$A$65,0)),"Kod listede yok")) | D9: Çıkış | E9: 3 | F9: Satış, gün sonu
A10: 46304 | B10: U02 | C10: =IF(B10="","",IFERROR(INDEX(Ürünler!$B$6:$B$65,MATCH(B10,Ürünler!$A$6:$A$65,0)),"Kod listede yok")) | D10: Çıkış | E10: 2 | F10: Satış, gün sonu
A11: 46304 | B11: U03 | C11: =IF(B11="","",IFERROR(INDEX(Ürünler!$B$6:$B$65,MATCH(B11,Ürünler!$A$6:$A$65,0)),"Kod listede yok")) | D11: Çıkış | E11: 1 | F11: Satış, gün sonu
A12: 46304 | B12: M01 | C12: =IF(B12="","",IFERROR(INDEX(Ürünler!$B$6:$B$65,MATCH(B12,Ürünler!$A$6:$A$65,0)),"Kod listede yok")) | D12: Giriş | E12: 5 | F12: Örnek Tedarik, nakit
A13: 46304 | B13: M01 | C13: =IF(B13="","",IFERROR(INDEX(Ürünler!$B$6:$B$65,MATCH(B13,Ürünler!$A$6:$A$65,0)),"Kod listede yok")) | D13: Çıkış | E13: 1 | F13: Kullanım
C14: =IF(B14="","",IFERROR(INDEX(Ürünler!$B$6:$B$65,MATCH(B14,Ürünler!$A$6:$A$65,0)),"Kod listede yok"))
C15: =IF(B15="","",IFERROR(INDEX(Ürünler!$B$6:$B$65,MATCH(B15,Ürünler!$A$6:$A$65,0)),"Kod listede yok"))
C16: =IF(B16="","",IFERROR(INDEX(Ürünler!$B$6:$B$65,MATCH(B16,Ürünler!$A$6:$A$65,0)),"Kod listede yok"))
C17: =IF(B17="","",IFERROR(INDEX(Ürünler!$B$6:$B$65,MATCH(B17,Ürünler!$A$6:$A$65,0)),"Kod listede yok"))
C18: =IF(B18="","",IFERROR(INDEX(Ürünler!$B$6:$B$65,MATCH(B18,Ürünler!$A$6:$A$65,0)),"Kod listede yok"))
C19: =IF(B19="","",IFERROR(INDEX(Ürünler!$B$6:$B$65,MATCH(B19,Ürünler!$A$6:$A$65,0)),"Kod listede yok"))
C20: =IF(B20="","",IFERROR(INDEX(Ürünler!$B$6:$B$65,MATCH(B20,Ürünler!$A$6:$A$65,0)),"Kod listede yok"))
C21: =IF(B21="","",IFERROR(INDEX(Ürünler!$B$6:$B$65,MATCH(B21,Ürünler!$A$6:$A$65,0)),"Kod listede yok"))
C22: =IF(B22="","",IFERROR(INDEX(Ürünler!$B$6:$B$65,MATCH(B22,Ürünler!$A$6:$A$65,0)),"Kod listede yok"))
C23: =IF(B23="","",IFERROR(INDEX(Ürünler!$B$6:$B$65,MATCH(B23,Ürünler!$A$6:$A$65,0)),"Kod listede yok"))
C24: =IF(B24="","",IFERROR(INDEX(Ürünler!$B$6:$B$65,MATCH(B24,Ürünler!$A$6:$A$65,0)),"Kod listede yok"))
C25: =IF(B25="","",IFERROR(INDEX(Ürünler!$B$6:$B$65,MATCH(B25,Ürünler!$A$6:$A$65,0)),"Kod listede yok"))
... C205: =IF(B205="","",IFERROR(INDEX(Ürünler!$B$6:$B$65,MATCH(B205,Ürünler!$A$6:$A$65,0)),"Kod listede yok"))
