Workbook

Sheet Cariler
A1: Cari listesi
A2: Her müşteriyi ve tedarikçiyi bir kez yazın. Bakiye "Hareketler" sayfasından hesaplanır; B borç, A alacak bakiyesidir.
A3: Sarı hücreleri doldurun; beyaz hücreler formüldür, kendiliğinden hesaplanır. Örnek satırları silip kendi kayıtlarınızı yazabilirsiniz. Şablon: jetkur.com
A5: Cari | B5: Tür | C5: Telefon | D5: Ödeme günü | E5: Toplam borç | F5: Toplam alacak | G5: Bakiye | H5: B / A
A6: Örnek Yapı Ltd. Şti. | B6: Müşteri | D6: Her ayın 15'i | E6: =IF(A6="","",SUMIFS(Hareketler!$D$6:$D$205,Hareketler!$B$6:$B$205,A6)) | F6: =IF(A6="","",SUMIFS(Hareketler!$E$6:$E$205,Hareketler!$B$6:$B$205,A6)) | G6: =IF(A6="","",ABS(E6-F6)) | H6: =IF(A6="","",IF(E6>F6,"B",IF(E6<F6,"A","-")))
A7: Örnek Kozmetik | B7: Tedarikçi | D7: 30 gün vade | E7: =IF(A7="","",SUMIFS(Hareketler!$D$6:$D$205,Hareketler!$B$6:$B$205,A7)) | F7: =IF(A7="","",SUMIFS(Hareketler!$E$6:$E$205,Hareketler!$B$6:$B$205,A7)) | G7: =IF(A7="","",ABS(E7-F7)) | H7: =IF(A7="","",IF(E7>F7,"B",IF(E7<F7,"A","-")))
E8: =IF(A8="","",SUMIFS(Hareketler!$D$6:$D$205,Hareketler!$B$6:$B$205,A8)) | F8: =IF(A8="","",SUMIFS(Hareketler!$E$6:$E$205,Hareketler!$B$6:$B$205,A8)) | G8: =IF(A8="","",ABS(E8-F8)) | H8: =IF(A8="","",IF(E8>F8,"B",IF(E8<F8,"A","-")))
E9: =IF(A9="","",SUMIFS(Hareketler!$D$6:$D$205,Hareketler!$B$6:$B$205,A9)) | F9: =IF(A9="","",SUMIFS(Hareketler!$E$6:$E$205,Hareketler!$B$6:$B$205,A9)) | G9: =IF(A9="","",ABS(E9-F9)) | H9: =IF(A9="","",IF(E9>F9,"B",IF(E9<F9,"A","-")))
E10: =IF(A10="","",SUMIFS(Hareketler!$D$6:$D$205,Hareketler!$B$6:$B$205,A10)) | F10: =IF(A10="","",SUMIFS(Hareketler!$E$6:$E$205,Hareketler!$B$6:$B$205,A10)) | G10: =IF(A10="","",ABS(E10-F10)) | H10: =IF(A10="","",IF(E10>F10,"B",IF(E10<F10,"A","-")))
E11: =IF(A11="","",SUMIFS(Hareketler!$D$6:$D$205,Hareketler!$B$6:$B$205,A11)) | F11: =IF(A11="","",SUMIFS(Hareketler!$E$6:$E$205,Hareketler!$B$6:$B$205,A11)) | G11: =IF(A11="","",ABS(E11-F11)) | H11: =IF(A11="","",IF(E11>F11,"B",IF(E11<F11,"A","-")))
E12: =IF(A12="","",SUMIFS(Hareketler!$D$6:$D$205,Hareketler!$B$6:$B$205,A12)) | F12: =IF(A12="","",SUMIFS(Hareketler!$E$6:$E$205,Hareketler!$B$6:$B$205,A12)) | G12: =IF(A12="","",ABS(E12-F12)) | H12: =IF(A12="","",IF(E12>F12,"B",IF(E12<F12,"A","-")))
E13: =IF(A13="","",SUMIFS(Hareketler!$D$6:$D$205,Hareketler!$B$6:$B$205,A13)) | F13: =IF(A13="","",SUMIFS(Hareketler!$E$6:$E$205,Hareketler!$B$6:$B$205,A13)) | G13: =IF(A13="","",ABS(E13-F13)) | H13: =IF(A13="","",IF(E13>F13,"B",IF(E13<F13,"A","-")))
E14: =IF(A14="","",SUMIFS(Hareketler!$D$6:$D$205,Hareketler!$B$6:$B$205,A14)) | F14: =IF(A14="","",SUMIFS(Hareketler!$E$6:$E$205,Hareketler!$B$6:$B$205,A14)) | G14: =IF(A14="","",ABS(E14-F14)) | H14: =IF(A14="","",IF(E14>F14,"B",IF(E14<F14,"A","-")))
E15: =IF(A15="","",SUMIFS(Hareketler!$D$6:$D$205,Hareketler!$B$6:$B$205,A15)) | F15: =IF(A15="","",SUMIFS(Hareketler!$E$6:$E$205,Hareketler!$B$6:$B$205,A15)) | G15: =IF(A15="","",ABS(E15-F15)) | H15: =IF(A15="","",IF(E15>F15,"B",IF(E15<F15,"A","-")))
E16: =IF(A16="","",SUMIFS(Hareketler!$D$6:$D$205,Hareketler!$B$6:$B$205,A16)) | F16: =IF(A16="","",SUMIFS(Hareketler!$E$6:$E$205,Hareketler!$B$6:$B$205,A16)) | G16: =IF(A16="","",ABS(E16-F16)) | H16: =IF(A16="","",IF(E16>F16,"B",IF(E16<F16,"A","-")))
E17: =IF(A17="","",SUMIFS(Hareketler!$D$6:$D$205,Hareketler!$B$6:$B$205,A17)) | F17: =IF(A17="","",SUMIFS(Hareketler!$E$6:$E$205,Hareketler!$B$6:$B$205,A17)) | G17: =IF(A17="","",ABS(E17-F17)) | H17: =IF(A17="","",IF(E17>F17,"B",IF(E17<F17,"A","-")))
E18: =IF(A18="","",SUMIFS(Hareketler!$D$6:$D$205,Hareketler!$B$6:$B$205,A18)) | F18: =IF(A18="","",SUMIFS(Hareketler!$E$6:$E$205,Hareketler!$B$6:$B$205,A18)) | G18: =IF(A18="","",ABS(E18-F18)) | H18: =IF(A18="","",IF(E18>F18,"B",IF(E18<F18,"A","-")))
E19: =IF(A19="","",SUMIFS(Hareketler!$D$6:$D$205,Hareketler!$B$6:$B$205,A19)) | F19: =IF(A19="","",SUMIFS(Hareketler!$E$6:$E$205,Hareketler!$B$6:$B$205,A19)) | G19: =IF(A19="","",ABS(E19-F19)) | H19: =IF(A19="","",IF(E19>F19,"B",IF(E19<F19,"A","-")))
... E65: =IF(A65="","",SUMIFS(Hareketler!$D$6:$D$205,Hareketler!$B$6:$B$205,A65)) | F65: =IF(A65="","",SUMIFS(Hareketler!$E$6:$E$205,Hareketler!$B$6:$B$205,A65)) | G65: =IF(A65="","",ABS(E65-F65)) | H65: =IF(A65="","",IF(E65>F65,"B",IF(E65<F65,"A","-")))

Sheet Hareketler
A1: Cari hareketleri
A2: Müşteri carisinde satış borç, tahsilat alacak; tedarikçi carisinde vadeli alış alacak, ödeme borç sütununa yazılır.
A3: Sarı hücreleri doldurun; beyaz hücreler formüldür, kendiliğinden hesaplanır. Örnek satırları silip kendi kayıtlarınızı yazabilirsiniz. Şablon: jetkur.com
A5: Tarih | B5: Cari | C5: Açıklama | D5: Borç | E5: Alacak | F5: Bakiye | G5: B / A
A6: 46267 | B6: Örnek Yapı Ltd. Şti. | C6: 2 aracın Eylül kirası | D6: 36000 | F6: =IF(B6="","",ABS(SUMIFS($D$6:D6,$B$6:B6,B6)-SUMIFS($E$6:E6,$B$6:B6,B6))) | G6: =IF(B6="","",IF(SUMIFS($D$6:D6,$B$6:B6,B6)-SUMIFS($E$6:E6,$B$6:B6,B6)>0,"B",IF(SUMIFS($D$6:D6,$B$6:B6,B6)-SUMIFS($E$6:E6,$B$6:B6,B6)<0,"A","-")))
A7: 46280 | B7: Örnek Yapı Ltd. Şti. | C7: Havale | E7: 20000 | F7: =IF(B7="","",ABS(SUMIFS($D$6:D7,$B$6:B7,B7)-SUMIFS($E$6:E7,$B$6:B7,B7))) | G7: =IF(B7="","",IF(SUMIFS($D$6:D7,$B$6:B7,B7)-SUMIFS($E$6:E7,$B$6:B7,B7)>0,"B",IF(SUMIFS($D$6:D7,$B$6:B7,B7)-SUMIFS($E$6:E7,$B$6:B7,B7)<0,"A","-")))
A8: 46295 | B8: Örnek Yapı Ltd. Şti. | C8: Hasar bedeli, ön tampon | D8: 4500 | F8: =IF(B8="","",ABS(SUMIFS($D$6:D8,$B$6:B8,B8)-SUMIFS($E$6:E8,$B$6:B8,B8))) | G8: =IF(B8="","",IF(SUMIFS($D$6:D8,$B$6:B8,B8)-SUMIFS($E$6:E8,$B$6:B8,B8)>0,"B",IF(SUMIFS($D$6:D8,$B$6:B8,B8)-SUMIFS($E$6:E8,$B$6:B8,B8)<0,"A","-")))
A9: 46296 | B9: Örnek Kozmetik | C9: Vadeli ürün alışı | E9: 8400 | F9: =IF(B9="","",ABS(SUMIFS($D$6:D9,$B$6:B9,B9)-SUMIFS($E$6:E9,$B$6:B9,B9))) | G9: =IF(B9="","",IF(SUMIFS($D$6:D9,$B$6:B9,B9)-SUMIFS($E$6:E9,$B$6:B9,B9)>0,"B",IF(SUMIFS($D$6:D9,$B$6:B9,B9)-SUMIFS($E$6:E9,$B$6:B9,B9)<0,"A","-")))
A10: 46297 | B10: Örnek Yapı Ltd. Şti. | C10: 2 aracın Ekim kirası | D10: 36000 | F10: =IF(B10="","",ABS(SUMIFS($D$6:D10,$B$6:B10,B10)-SUMIFS($E$6:E10,$B$6:B10,B10))) | G10: =IF(B10="","",IF(SUMIFS($D$6:D10,$B$6:B10,B10)-SUMIFS($E$6:E10,$B$6:B10,B10)>0,"B",IF(SUMIFS($D$6:D10,$B$6:B10,B10)-SUMIFS($E$6:E10,$B$6:B10,B10)<0,"A","-")))
A11: 46300 | B11: Örnek Yapı Ltd. Şti. | C11: Havale | E11: 30000 | F11: =IF(B11="","",ABS(SUMIFS($D$6:D11,$B$6:B11,B11)-SUMIFS($E$6:E11,$B$6:B11,B11))) | G11: =IF(B11="","",IF(SUMIFS($D$6:D11,$B$6:B11,B11)-SUMIFS($E$6:E11,$B$6:B11,B11)>0,"B",IF(SUMIFS($D$6:D11,$B$6:B11,B11)-SUMIFS($E$6:E11,$B$6:B11,B11)<0,"A","-")))
A12: 46301 | B12: Örnek Kozmetik | C12: Ödeme, havale | D12: 5000 | F12: =IF(B12="","",ABS(SUMIFS($D$6:D12,$B$6:B12,B12)-SUMIFS($E$6:E12,$B$6:B12,B12))) | G12: =IF(B12="","",IF(SUMIFS($D$6:D12,$B$6:B12,B12)-SUMIFS($E$6:E12,$B$6:B12,B12)>0,"B",IF(SUMIFS($D$6:D12,$B$6:B12,B12)-SUMIFS($E$6:E12,$B$6:B12,B12)<0,"A","-")))
F13: =IF(B13="","",ABS(SUMIFS($D$6:D13,$B$6:B13,B13)-SUMIFS($E$6:E13,$B$6:B13,B13))) | G13: =IF(B13="","",IF(SUMIFS($D$6:D13,$B$6:B13,B13)-SUMIFS($E$6:E13,$B$6:B13,B13)>0,"B",IF(SUMIFS($D$6:D13,$B$6:B13,B13)-SUMIFS($E$6:E13,$B$6:B13,B13)<0,"A","-")))
F14: =IF(B14="","",ABS(SUMIFS($D$6:D14,$B$6:B14,B14)-SUMIFS($E$6:E14,$B$6:B14,B14))) | G14: =IF(B14="","",IF(SUMIFS($D$6:D14,$B$6:B14,B14)-SUMIFS($E$6:E14,$B$6:B14,B14)>0,"B",IF(SUMIFS($D$6:D14,$B$6:B14,B14)-SUMIFS($E$6:E14,$B$6:B14,B14)<0,"A","-")))
F15: =IF(B15="","",ABS(SUMIFS($D$6:D15,$B$6:B15,B15)-SUMIFS($E$6:E15,$B$6:B15,B15))) | G15: =IF(B15="","",IF(SUMIFS($D$6:D15,$B$6:B15,B15)-SUMIFS($E$6:E15,$B$6:B15,B15)>0,"B",IF(SUMIFS($D$6:D15,$B$6:B15,B15)-SUMIFS($E$6:E15,$B$6:B15,B15)<0,"A","-")))
F16: =IF(B16="","",ABS(SUMIFS($D$6:D16,$B$6:B16,B16)-SUMIFS($E$6:E16,$B$6:B16,B16))) | G16: =IF(B16="","",IF(SUMIFS($D$6:D16,$B$6:B16,B16)-SUMIFS($E$6:E16,$B$6:B16,B16)>0,"B",IF(SUMIFS($D$6:D16,$B$6:B16,B16)-SUMIFS($E$6:E16,$B$6:B16,B16)<0,"A","-")))
F17: =IF(B17="","",ABS(SUMIFS($D$6:D17,$B$6:B17,B17)-SUMIFS($E$6:E17,$B$6:B17,B17))) | G17: =IF(B17="","",IF(SUMIFS($D$6:D17,$B$6:B17,B17)-SUMIFS($E$6:E17,$B$6:B17,B17)>0,"B",IF(SUMIFS($D$6:D17,$B$6:B17,B17)-SUMIFS($E$6:E17,$B$6:B17,B17)<0,"A","-")))
F18: =IF(B18="","",ABS(SUMIFS($D$6:D18,$B$6:B18,B18)-SUMIFS($E$6:E18,$B$6:B18,B18))) | G18: =IF(B18="","",IF(SUMIFS($D$6:D18,$B$6:B18,B18)-SUMIFS($E$6:E18,$B$6:B18,B18)>0,"B",IF(SUMIFS($D$6:D18,$B$6:B18,B18)-SUMIFS($E$6:E18,$B$6:B18,B18)<0,"A","-")))
F19: =IF(B19="","",ABS(SUMIFS($D$6:D19,$B$6:B19,B19)-SUMIFS($E$6:E19,$B$6:B19,B19))) | G19: =IF(B19="","",IF(SUMIFS($D$6:D19,$B$6:B19,B19)-SUMIFS($E$6:E19,$B$6:B19,B19)>0,"B",IF(SUMIFS($D$6:D19,$B$6:B19,B19)-SUMIFS($E$6:E19,$B$6:B19,B19)<0,"A","-")))
F20: =IF(B20="","",ABS(SUMIFS($D$6:D20,$B$6:B20,B20)-SUMIFS($E$6:E20,$B$6:B20,B20))) | G20: =IF(B20="","",IF(SUMIFS($D$6:D20,$B$6:B20,B20)-SUMIFS($E$6:E20,$B$6:B20,B20)>0,"B",IF(SUMIFS($D$6:D20,$B$6:B20,B20)-SUMIFS($E$6:E20,$B$6:B20,B20)<0,"A","-")))
F21: =IF(B21="","",ABS(SUMIFS($D$6:D21,$B$6:B21,B21)-SUMIFS($E$6:E21,$B$6:B21,B21))) | G21: =IF(B21="","",IF(SUMIFS($D$6:D21,$B$6:B21,B21)-SUMIFS($E$6:E21,$B$6:B21,B21)>0,"B",IF(SUMIFS($D$6:D21,$B$6:B21,B21)-SUMIFS($E$6:E21,$B$6:B21,B21)<0,"A","-")))
F22: =IF(B22="","",ABS(SUMIFS($D$6:D22,$B$6:B22,B22)-SUMIFS($E$6:E22,$B$6:B22,B22))) | G22: =IF(B22="","",IF(SUMIFS($D$6:D22,$B$6:B22,B22)-SUMIFS($E$6:E22,$B$6:B22,B22)>0,"B",IF(SUMIFS($D$6:D22,$B$6:B22,B22)-SUMIFS($E$6:E22,$B$6:B22,B22)<0,"A","-")))
F23: =IF(B23="","",ABS(SUMIFS($D$6:D23,$B$6:B23,B23)-SUMIFS($E$6:E23,$B$6:B23,B23))) | G23: =IF(B23="","",IF(SUMIFS($D$6:D23,$B$6:B23,B23)-SUMIFS($E$6:E23,$B$6:B23,B23)>0,"B",IF(SUMIFS($D$6:D23,$B$6:B23,B23)-SUMIFS($E$6:E23,$B$6:B23,B23)<0,"A","-")))
F24: =IF(B24="","",ABS(SUMIFS($D$6:D24,$B$6:B24,B24)-SUMIFS($E$6:E24,$B$6:B24,B24))) | G24: =IF(B24="","",IF(SUMIFS($D$6:D24,$B$6:B24,B24)-SUMIFS($E$6:E24,$B$6:B24,B24)>0,"B",IF(SUMIFS($D$6:D24,$B$6:B24,B24)-SUMIFS($E$6:E24,$B$6:B24,B24)<0,"A","-")))
... F205: =IF(B205="","",ABS(SUMIFS($D$6:D205,$B$6:B205,B205)-SUMIFS($E$6:E205,$B$6:B205,B205))) | G205: =IF(B205="","",IF(SUMIFS($D$6:D205,$B$6:B205,B205)-SUMIFS($E$6:E205,$B$6:B205,B205)>0,"B",IF(SUMIFS($D$6:D205,$B$6:B205,B205)-SUMIFS($E$6:E205,$B$6:B205,B205)<0,"A","-")))
